BEGIN:VCALENDAR
VERSION:2.0
PRODID:-//eventon.com NONSGML v1.0//EN
CALSCALE:GREGORIAN
METHOD:PUBLISH
BEGIN:VEVENT
UID:69ea49e6d30f1
DTSTAMP:20260423T163342Z
DTSTART:20240215
DTEND:20240216
LOCATION:
SUMMARY:CELESTIAL CONTEMPLATIONS: UNVEILING THE DIVINE
DESCRIPTION:CELESTIAL CONTEMPLATIONS: UNVEILING THE DIVINE Event Type: Art 
 Exhibition. Date and Time: 15th February to 31st March 2024. Location: ADA 
 Contemporary Art Gallery \, Villagio Vista \,  Accra. See more details usin
 g the link:  ADA Contemporary Art Gallery is pleased to announce our upcom
 ing solo exhibition by Joseph Mobolaji Aina titled[..]\nhttps://trybeafrica
 .com/events/celestial-contemplations-unveiling-the-divine/
URL:https://trybeafrica.com/events/celestial-contemplations-unveiling-the-divine/
END:VEVENT
END:VCALENDAR