BEGIN:VCALENDAR
VERSION:2.0
PRODID:-//eventon.com NONSGML v1.0//EN
CALSCALE:GREGORIAN
METHOD:PUBLISH
BEGIN:VEVENT
UID:69ea26955f13f
DTSTAMP:20260423T140301Z
DTSTART:20240131
DTEND:20240201
LOCATION:1
SUMMARY:Pyjamas for 5\,  The Play
DESCRIPTION:Pyjamas for 5\,  The Play Event Type: Webinar Date and Time: 31
 st January 2024\,  7pm Location: National Theatre\,  Accra See more details
  using the link Morgan is planning a weekend of illicit romance at his char
 ming countryside home while his wife\,  Mansah\,  is away. To ensure a smoo
 th affair\,  he[..]\nhttps://trybeafrica.com/events/pyjamas-for-5-the-play/
URL:https://trybeafrica.com/events/pyjamas-for-5-the-play/
END:VEVENT
END:VCALENDAR