BEGIN:VCALENDAR
VERSION:2.0
PRODID:-//eventon.com NONSGML v1.0//EN
CALSCALE:GREGORIAN
METHOD:PUBLISH
BEGIN:VEVENT
UID:69e6f85c6d27f
DTSTAMP:20260421T040900Z
DTSTART:20231217T140000Z
DTEND:20231217T220000Z
LOCATION:
SUMMARY:Creative Tech Expo
DESCRIPTION:Creative Tech Expo  Event Type: Panel discussion Date and Time
 :17th December\,  2pm Location: Buro\,  Osu\,  Accra See more details using
  the link Get ready for an exciting expo happening this December! This is a
  fantastic opportunity to engage in vibrant conversations\,  meet like-mind
 ed individuals\,  and share ideas. Whether you're a[..]\nhttps://trybeafric
 a.com/events/creative-tech-expo/
URL:https://trybeafrica.com/events/creative-tech-expo/
END:VEVENT
END:VCALENDAR