BEGIN:VCALENDAR
VERSION:2.0
PRODID:-//eventon.com NONSGML v1.0//EN
CALSCALE:GREGORIAN
METHOD:PUBLISH
BEGIN:VEVENT
UID:69e7947c78498
DTSTAMP:20260421T151508Z
DTSTART:20231013T200000Z
DTEND:20231013T235000Z
LOCATION:
SUMMARY:Samini Live
DESCRIPTION:Samini Live Event Type: Music event Date and Time: 13th October
 \,  8pm Location: Exhale Lounge\,  East Legon\,  Accra See more details usi
 ng the link. Live music with one of Ghana's finest artists Samini on Friday
  13th October 2023 from 8pm Sharp. Join us as he releases his New Single (G
 ood[..]\nhttps://trybeafrica.com/events/samini-live/
URL:https://trybeafrica.com/events/samini-live/
END:VEVENT
END:VCALENDAR