BEGIN:VCALENDAR
VERSION:2.0
PRODID:-//eventon.com NONSGML v1.0//EN
CALSCALE:GREGORIAN
METHOD:PUBLISH
BEGIN:VEVENT
UID:69e9e01cadb6d
DTSTAMP:20260423T090220Z
DTSTART:20230917T110000Z
DTEND:20230917T235000Z
LOCATION:
SUMMARY:Accra Cultural Week Artist Talks
DESCRIPTION:Accra Cultural Week Artist Talks Event Type: Rave Date and Time
 : 17th September\,  11am- evening Location: Kempinski\,  Accra See more det
 ails using the link. Accra Cultural Week 2023 is coming up and Gallery 1957
  looks forward to hosting a series of talks on Sunday 17th September at Che
 z George\,  Kempinski[..]\nhttps://trybeafrica.com/events/accra-cultural-we
 ek-artist-talks/
URL:https://trybeafrica.com/events/accra-cultural-week-artist-talks/
END:VEVENT
END:VCALENDAR