BEGIN:VCALENDAR
VERSION:2.0
PRODID:-//eventon.com NONSGML v1.0//EN
CALSCALE:GREGORIAN
METHOD:PUBLISH
BEGIN:VEVENT
UID:69e63eb107f3f
DTSTAMP:20260420T145649Z
DTSTART:20230929T180000Z
DTEND:20230929T235000Z
LOCATION:
SUMMARY:SESIME Film Screening
DESCRIPTION:SESIME Film Screening Event Type: Expo Date and Time: 29th Sept
 ember\,  6pm Location: NAFTI Hostel\,  Cantonments\,  Accra\,  Ghana Click 
 the link to find out more. For September\,  SESIME is the film. On his retu
 rn from prison\,  a murder convict seeks to rebuild his life amidst deep-se
 ated discrimination supported dangerously by[..]\nhttps://trybeafrica.com/e
 vents/sesime-film-screening/
URL:https://trybeafrica.com/events/sesime-film-screening/
END:VEVENT
END:VCALENDAR