BEGIN:VCALENDAR
VERSION:2.0
PRODID:-//eventon.com NONSGML v1.0//EN
CALSCALE:GREGORIAN
METHOD:PUBLISH
BEGIN:VEVENT
UID:69eab09bc1841
DTSTAMP:20260423T235155Z
DTSTART:20230827T200000Z
DTEND:20230827T235000Z
LOCATION:
SUMMARY:After Party
DESCRIPTION:After Party Event Type: Party Date and Time: 27th August\,   L
 ocation: Mad Club\,  Accra See more details below and on Instagram using th
 e link. Brace yourself for a weekend of absolute madness! Three wild nights
 \,  one insane venue. Get ready to party like there's no tomorrow from Frid
 ay to Sunday.[..]\nhttps://trybeafrica.com/events/after-party/
URL:https://trybeafrica.com/events/after-party/
END:VEVENT
END:VCALENDAR