BEGIN:VCALENDAR
VERSION:2.0
PRODID:-//eventon.com NONSGML v1.0//EN
CALSCALE:GREGORIAN
METHOD:PUBLISH
BEGIN:VEVENT
UID:69e74fa25aa63
DTSTAMP:20260421T102122Z
DTSTART:20230722T120000Z
DTEND:20230722T235000Z
LOCATION:
SUMMARY:Duo Art Salon Featuring Kamila Soares & Chinezim Moghalu
DESCRIPTION:Duo Art Salon Featuring Kamila Soares & Chinezim Moghalu Event 
 Type: Art exhibition Date and Time: 22nd July - 5th August Location: Wunika
  Mukan Gallery\,  Lagos See more details below and on Instagram using the l
 ink. Kamila Soares is a visual artist from São Paulo\,  Brazil. Through ex
 tensive exploration of[..]\nhttps://trybeafrica.com/events/duo-art-salon-fe
 aturing-kamila-soares-chinezim-moghalu/
URL:https://trybeafrica.com/events/duo-art-salon-featuring-kamila-soares-chinezim-moghalu/
END:VEVENT
END:VCALENDAR