BEGIN:VCALENDAR
VERSION:2.0
PRODID:-//eventon.com NONSGML v1.0//EN
CALSCALE:GREGORIAN
METHOD:PUBLISH
BEGIN:VEVENT
UID:69ea78e36532c
DTSTAMP:20260423T195411Z
DTSTART:20230718T150000Z
DTEND:20230718T235000Z
LOCATION:
SUMMARY:Lilou & Sunni Red Bull BC One All Star Team
DESCRIPTION:Lilou & Sunni Red Bull BC One All Star Team Event Type: Dance e
 vent  Date and Time: 18th July  Location: Alliance Française\,  Kampala 
 See more details below and on Instagram using the link. Meet the Street OFF
  B-boys and B-girl team as part of their East African tour. As part[..]\nht
 tps://trybeafrica.com/events/lilou-sunni-red-bull-bc-one-all-star-team/
URL:https://trybeafrica.com/events/lilou-sunni-red-bull-bc-one-all-star-team/
END:VEVENT
END:VCALENDAR