BEGIN:VCALENDAR
VERSION:2.0
PRODID:-//eventon.com NONSGML v1.0//EN
CALSCALE:GREGORIAN
METHOD:PUBLISH
BEGIN:VEVENT
UID:69ea5f394345f
DTSTAMP:20260423T180441Z
DTSTART:20230318T030000Z
DTEND:20230318T180000Z
LOCATION:
SUMMARY:Short Film Storytelling
DESCRIPTION:Short Film Storytelling With Heinz Hermanns Event Type: Film ma
 sterclass Date and Time: 18th March Location: Goethe-Institut Library\,  Na
 irobi See more details below and on Instagram using the link. A masterclass
  delving into the art form of short film storytelling through studying a se
 lection of acclaimed films and presenting your[..]\nhttps://trybeafrica.com
 /events/short-film-storytelling/
URL:https://trybeafrica.com/events/short-film-storytelling/
END:VEVENT
END:VCALENDAR