BEGIN:VCALENDAR
VERSION:2.0
PRODID:-//eventon.com NONSGML v1.0//EN
CALSCALE:GREGORIAN
METHOD:PUBLISH
BEGIN:VEVENT
UID:69ea7300697e2
DTSTAMP:20260423T192904Z
DTSTART:20230319
DTEND:20230320
LOCATION:
SUMMARY:#Un Film Screening
DESCRIPTION:#Un Film Screening Event Type: Film Screening Date and Time: 19
 th March Location: Alliance Francaise\,  Kampala See more details below and
  on the website using the link. #Un is the new AKATUUTI show directed by Cy
 ril Ducottet & Maria Sheba Atukunda\,  featuring artists like Aliddeki Bria
 n\,  Joldine Anne\,  and Doch[..]\nhttps://trybeafrica.com/events/un-film-s
 creening/
URL:https://trybeafrica.com/events/un-film-screening/
END:VEVENT
END:VCALENDAR