BEGIN:VCALENDAR
VERSION:2.0
PRODID:-//eventon.com NONSGML v1.0//EN
CALSCALE:GREGORIAN
METHOD:PUBLISH
BEGIN:VEVENT
UID:69ea56be4dd2e
DTSTAMP:20260423T172830Z
DTSTART:20230318T130000Z
DTEND:20230325T150000Z
LOCATION:
SUMMARY:Didi's Saturday Art Workshop
DESCRIPTION:Didi's Saturday Art Workshop for kids and young adults Event Ty
 pe: Art Workshop  Date and Time: 18th and 25th March\,  1pm-3pm Location: 
 Didi Museum\,  Victoria Island\,  Lagos See more details below and on Insta
 gram using the link. Registrations are ongoing for our children and youth S
 aturday Art classes for the[..]\nhttps://trybeafrica.com/events/didis-satur
 day-art-workshop/
URL:https://trybeafrica.com/events/didis-saturday-art-workshop/
END:VEVENT
END:VCALENDAR