BEGIN:VCALENDAR
VERSION:2.0
PRODID:-//eventon.com NONSGML v1.0//EN
CALSCALE:GREGORIAN
METHOD:PUBLISH
BEGIN:VEVENT
UID:69e9ee961ee01
DTSTAMP:20260423T100406Z
DTSTART:20230325T120000Z
DTEND:20230325T235000Z
LOCATION:
SUMMARY:Reel to Reality Festival - KZN Community Screening
DESCRIPTION:In the words of Melissa Kimble\,  "this world does not move wit
 hout Black creativity.” @reeltorealityfest is so proud to honour and ce
 lebrate the black child through our first\,  but not last Community Screeni
 ng\,  in partnership with @vickydenisechili ‘s Ekasi Bioscope. We will 
 be showcasing a selection of African diasporic animations and shorts to chi
 ldren[..]\nhttps://trybeafrica.com/events/reel-to-reality-festival-kzn-comm
 unity-screening/
URL:https://trybeafrica.com/events/reel-to-reality-festival-kzn-community-screening/
END:VEVENT
END:VCALENDAR