BEGIN:VCALENDAR
VERSION:2.0
PRODID:-//eventon.com NONSGML v1.0//EN
CALSCALE:GREGORIAN
METHOD:PUBLISH
BEGIN:VEVENT
UID:69e89de417195
DTSTAMP:20260422T100732Z
DTSTART:20240629T150000Z
DTEND:20240629T235900Z
LOCATION:
SUMMARY:Psy-Tech Exhibition
DESCRIPTION:Psy-Tech Exhibition Event type: Art Exhibition Date and Time: 2
 9th June 2024\,  3 pm Location: Ghana National Museum\,  Accra\,  Ghana See
  more details using the link: Compound House Gallery is showcasing its exhi
 bition “JOJO ABDALLAH: PSY-TECH” (“Where Psychology meets Technology
 )\,  of paintings and ephemera by the Ghanaian artist Jojo Abdallah[..]\n
 https://trybeafrica.com/events/psy-tech-exhibition/
URL:https://trybeafrica.com/events/psy-tech-exhibition/
END:VEVENT
END:VCALENDAR