BEGIN:VCALENDAR
VERSION:2.0
PRODID:-//eventon.com NONSGML v1.0//EN
CALSCALE:GREGORIAN
METHOD:PUBLISH
BEGIN:VEVENT
UID:69e752835cd9a
DTSTAMP:20260421T103339Z
DTSTART:20240615T150000Z
DTEND:20240615T235900Z
LOCATION:
SUMMARY:IMullar Soundsystem Energy 012
DESCRIPTION:IMullar Soundsystem Energy 012 Event type: Party Date and Time:
  15th June 2024\,  3 pm. Location: Front/Back\,  Accra\,  Ghana See more de
 tails using the link: Energy is a DJ-powered event curated by iMullar Sound
  System. Come and enjoy good music\,  good energy \,  sunshine \,  old & ne
 wly formed friendships[..]\nhttps://trybeafrica.com/events/imullar-soundsys
 tem-energy-012/
URL:https://trybeafrica.com/events/imullar-soundsystem-energy-012/
END:VEVENT
END:VCALENDAR