BEGIN:VCALENDAR
VERSION:2.0
PRODID:-//eventon.com NONSGML v1.0//EN
CALSCALE:GREGORIAN
METHOD:PUBLISH
BEGIN:VEVENT
UID:69e6e799e19dc
DTSTAMP:20260421T025729Z
DTSTART:20240505T140000Z
DTEND:20240505T180000Z
LOCATION:
SUMMARY:Cups & Bass
DESCRIPTION:Cups & Bass Event type: Music Event. Date and Time: 5th May 202
 4\,  2:00 pm to 6:00 pm.  Location: Beehive\,  8th Ringway\,  Accra. See 
 more details using the link: The dangerous DJ Loft and king of the M.I.C Ko
 jo Manuel\,  introduce Cups & Bass: The Live Experience. Be a part of[..]\n
 https://trybeafrica.com/events/cups-bass/
URL:https://trybeafrica.com/events/cups-bass/
END:VEVENT
END:VCALENDAR