BEGIN:VCALENDAR
VERSION:2.0
PRODID:-//eventon.com NONSGML v1.0//EN
CALSCALE:GREGORIAN
METHOD:PUBLISH
BEGIN:VEVENT
UID:69eca01d165cd
DTSTAMP:20260425T110605Z
DTSTART:20240405T170000Z
DTEND:20240405T225900Z
LOCATION:
SUMMARY:Don't Let This Become Public
DESCRIPTION:Don't Let This Become Public Event type: Poetry Event. Date and
  Time: 5th April 2024\,  6:00 pm.  Location: Buro\,  Accra\,  Ghana. See m
 ore details using the link: Join the Poetivist at Buro\,  Accra on 5th Apri
 l 2024 from 6 pm as he shares a conceptualized protest-performance set in a
  tightly-knit[..]\nhttps://trybeafrica.com/events/dont-let-this-become-publ
 ic/
URL:https://trybeafrica.com/events/dont-let-this-become-public/
END:VEVENT
END:VCALENDAR